BEGIN:VCALENDAR
VERSION:2.0
PRODID:-//Projekt MUT - ECPv6.15.11//NONSGML v1.0//EN
CALSCALE:GREGORIAN
METHOD:PUBLISH
X-WR-CALNAME:Projekt MUT
X-ORIGINAL-URL:https://mut-elkb.de
X-WR-CALDESC:Veranstaltungen für Projekt MUT
REFRESH-INTERVAL;VALUE=DURATION:PT1H
X-Robots-Tag:noindex
X-PUBLISHED-TTL:PT1H
BEGIN:VTIMEZONE
TZID:Europe/Berlin
BEGIN:DAYLIGHT
TZOFFSETFROM:+0100
TZOFFSETTO:+0200
TZNAME:CEST
DTSTART:20210328T010000
END:DAYLIGHT
BEGIN:STANDARD
TZOFFSETFROM:+0200
TZOFFSETTO:+0100
TZNAME:CET
DTSTART:20211031T010000
END:STANDARD
BEGIN:DAYLIGHT
TZOFFSETFROM:+0100
TZOFFSETTO:+0200
TZNAME:CEST
DTSTART:20220327T010000
END:DAYLIGHT
BEGIN:STANDARD
TZOFFSETFROM:+0200
TZOFFSETTO:+0100
TZNAME:CET
DTSTART:20221030T010000
END:STANDARD
BEGIN:DAYLIGHT
TZOFFSETFROM:+0100
TZOFFSETTO:+0200
TZNAME:CEST
DTSTART:20230326T010000
END:DAYLIGHT
BEGIN:STANDARD
TZOFFSETFROM:+0200
TZOFFSETTO:+0100
TZNAME:CET
DTSTART:20231029T010000
END:STANDARD
END:VTIMEZONE
BEGIN:VEVENT
DTSTART;TZID=Europe/Berlin:20221017T190000
DTEND;TZID=Europe/Berlin:20221017T203000
DTSTAMP:20260423T132153
CREATED:20221007T163421Z
LAST-MODIFIED:20221007T163611Z
UID:10000032-1666033200-1666038600@mut-elkb.de
SUMMARY:Stammtisch – digital: Refinanzierung und Fundraising (Erprobungsräume EKM)
DESCRIPTION:Stammtisch – digital\nSehr gerne möchten wir euch aufmerksam machen auf eine Veranstaltung der Erprobungsräume der EKM zum Thema „Refinanzierung und Fundraising“ am 17.10.20 von 19.00 bis 20.30 Uhr per ZOOM. \nDie „Erprobungsräume“ sind ein Prozess der Evangelischen Kirche in Mitteldeutschland (EKM) zur Förderung anderer Gemeindeformen. Sie sind schon länger unterwegs und haben bereits viel Erfahrungen gesammelt\, von denen wir als MUT Projekt und MUT Community lernen können und wollen. \nNeben einem Impuls zum Thema „alternative Finanzmittel“ sollen bei diesem digitalen Stammtisch vor allem der Austausch und das Netzwerken im Fokus stehen. Lasst euch überraschen und seid dabei! \nWeitere Infos: https://www.erprobungsraeume-ekm.de/veranstaltung/stammtisch-digital-717/ \nAnmeldungen bis zum 12.10. formlos per Email an simon.roppel@ekmd.de
URL:https://mut-elkb.de/termin/stammtisch-digital-refinanzierung-und-fundraising-erprobungsraeume-ekm/
LOCATION:ZOOM
ATTACH;FMTTYPE=image/jpeg:https://mut-elkb.de/wp-content/uploads/2022/10/IMG_3713-scaled-e1663322269467-1536x1024-1.jpg
END:VEVENT
END:VCALENDAR